View In:
ArcGIS JavaScript
ArcGIS Online Map Viewer
ArcGIS Earth
ArcGIS Pro
Service Description:
Map Name: Layers
Legend
All Layers and Tables
Dynamic Legend
Dynamic All Layers
Layers:
Description:
Service Item Id: 464b899973ce401f82d4149c5561d51a
Copyright Text:
Spatial Reference:
102100
(3857)
LatestVCSWkid(0)
Single Fused Map Cache: true
Tile Info:
- Height: 256
- Width: 256
- DPI: 96
-
Levels of Detail: 24
-
Level ID: 0
[ Start Tile, End Tile ]
- Resolution: 156543.03392800014
- Scale: 5.91657527591555E8
-
Level ID: 1
[ Start Tile, End Tile ]
- Resolution: 78271.51696399994
- Scale: 2.95828763795777E8
-
Level ID: 2
[ Start Tile, End Tile ]
- Resolution: 39135.75848200009
- Scale: 1.47914381897889E8
-
Level ID: 3
[ Start Tile, End Tile ]
- Resolution: 19567.87924099992
- Scale: 7.3957190948944E7
-
Level ID: 4
[ Start Tile, End Tile ]
- Resolution: 9783.93962049996
- Scale: 3.6978595474472E7
-
Level ID: 5
[ Start Tile, End Tile ]
- Resolution: 4891.96981024998
- Scale: 1.8489297737236E7
- Format: PNG
- Compression Quality: 0.0
- Origin: X: -2.0037508342787E7
Y: 2.0037508342787E7
- Spatial Reference: 102100
(3857)
LatestVCSWkid(0)
Storage Info:
- Storage Format: esriMapCacheStorageModeCompactV2
- Packet Size: 128
Initial Extent:
XMin: 1.2132513434177713E7
YMin: 124205.94328182982
XMax: 1.4419184422122287E7
YMax: 2548189.2822181727
Spatial Reference: 102100
(0)
LatestVCSWkid(0)
Full Extent:
XMin: 1.2458737214200001E7
YMin: 517171.10880000144
XMax: 1.4092960642099999E7
YMax: 2155224.116700001
Spatial Reference: 102100
(0)
LatestVCSWkid(0)
Units: esriMeters
Supported Image Format Types: PNG32,PNG24,PNG,JPG,DIB,TIFF,EMF,PS,PDF,GIF,SVG,SVGZ,BMP
Document Info:
Title: Untitled.aprx
Author:
Comments:
Subject:
Category:
Keywords: Detailed Flood Susceptibility
AntialiasingMode: Fast
TextAntialiasingMode: Force
Supports Dynamic Layers: true
Resampling: false
MaxRecordCount: 2000
MaxImageHeight: 4096
MaxImageWidth: 4096
Supported Query Formats: JSON, geoJSON, PBF
Supports Query Data Elements: true
Min Scale: 1.8489297737236E7
Max Scale: 4513.988705
Min LOD: 6
Max LOD: 17
Supports Datum Transformation: true
Child Resources:
Info
Dynamic Layer
Supported Operations:
Export Map
Identify
QueryLegends
QueryDomains
Find
Return Updates